BEGIN:VCALENDAR
VERSION:2.0
PRODID:icalendar-ruby
CALSCALE:GREGORIAN
METHOD:PUBLISH
BEGIN:VEVENT
DTSTAMP:20260421T020346Z
UID:7-444636@landmarkrecoveryjcmo.com
DTSTART:20260930T220000Z
DTEND:20261001T000000Z
CLASS:PUBLIC
CREATED:20260420T200553
DESCRIPTION:Join us for Abundant Life Recovery\, each Wednesday night. This
  is a faith-based general support group\, where you will find worship &amp
 \; process opportunities to share with others on a similar journey. \n\n5
  - 5:30 PM: Meal Time - come eat before the meeting!\n5:30 - 6:30 PM: Main
  Meeting - all are welcome to join!\n6:30 - 7 PM: Small Groups - we breako
 ut by gender for small group sharing!\n
LAST-MODIFIED:20260420T200553
LOCATION:Landmark Recovery Center\, 204 Metro Drive\, Jefferson City\, MO 6
 5109
SUMMARY:Abundant Life Recovery Meeting
URL;VALUE=URI:https://www.landmarkrecoveryjcmo.com/events/abundant-life-rec
 overy-meeting/2026-09-30
ATTACH;FILENAME=ALR-Flyer.PNG;FMTTYPE=image/png:https://dq5pwpg1q8ru0.cloud
 front.net/2025/01/09/17/00/50/40d248e6-4a8f-4d36-b156-e0c15d64cc67/ALR-Fly
 er.PNG
END:VEVENT
END:VCALENDAR
