BEGIN:VCALENDAR
VERSION:2.0
PRODID:icalendar-ruby
CALSCALE:GREGORIAN
METHOD:PUBLISH
BEGIN:VEVENT
DTSTAMP:20260421T133943Z
UID:15-445057@landmarkrecoveryjcmo.com
DTSTART:20260922T230000Z
DTEND:20260923T000000Z
CLASS:PUBLIC
CREATED:20260421T071248
DESCRIPTION:
LAST-MODIFIED:20260421T071248
LOCATION:Landmark Recovery Center\, 204 Metro Drive\, Jefferson City\, MO 6
 5109
SUMMARY:Codependents Anonymous
URL;VALUE=URI:https://www.landmarkrecoveryjcmo.com/events/codependents-anon
 ymous/2026-09-22
ATTACH;FILENAME=logo-transparent.png;FMTTYPE=image/png:https://dq5pwpg1q8ru
 0.cloudfront.net/2025/01/14/17/31/11/73c63427-2772-4804-b781-1d47c4204d1d/
 logo-transparent.png
END:VEVENT
END:VCALENDAR
